BEGIN:VCALENDAR
VERSION:2.0
PRODID:-//wp-events-plugin.com//7.2.3.1//EN
TZID:America/New_York
X-WR-TIMEZONE:America/New_York
BEGIN:VEVENT
UID:24@crawforddevelopment.net
DTSTART;TZID=America/New_York:20240302T090000
DTEND;TZID=America/New_York:20240302T150000
DTSTAMP:20240229T193909Z
URL:https://crawforddevelopment.net/events/crawford-county-housing-expo/
SUMMARY:Crawford County Housing Expo
DESCRIPTION:
END:VEVENT
BEGIN:VTIMEZONE
TZID:America/New_York
X-LIC-LOCATION:America/New_York
BEGIN:STANDARD
DTSTART:20231105T010000
TZOFFSETFROM:-0400
TZOFFSETTO:-0500
TZNAME:EST
END:STANDARD
END:VTIMEZONE
END:VCALENDAR