BEGIN:VCALENDAR
VERSION:2.0
PRODID:-//wp-events-plugin.com//7.2.3.1//EN
TZID:America/New_York
X-WR-TIMEZONE:America/New_York
BEGIN:VEVENT
UID:34@crawforddevelopment.net
DTSTART;TZID=America/New_York:20251110T090000
DTEND;TZID=America/New_York:20251110T100000
DTSTAMP:20250711T201659Z
URL:https://crawforddevelopment.net/events/choose-crawford-housing-team-me
 etings-2-2025-07-14-2025-08-11-2025-09-08-2025-10-13-2025-11-10/
SUMMARY:Choose Crawford Housing Team meetings
DESCRIPTION:Development Authority of Crawford County: Choose Crawford Housi
 ng Team Meeting @9am\nEvery 2nd Monday of the Month\n\nWhen: Monday\, July
  14\, 2025\nWhere: Development Authority Business Center\, Conference Room
 \n1011 Ga Hwy 341 N.\nRoberta\, Georgia 31078
CATEGORIES:Choose Crawford Housing Team Meeting
LOCATION:Conference Room\, 1011 Ga Hwy 341 N.\, Roberta\, GA\, 31078\, Unit
 ed States
X-APPLE-STRUCTURED-LOCATION;VALUE=URI;X-ADDRESS=1011 Ga Hwy 341 N.\, Robert
 a\, GA\, 31078\, United States;X-APPLE-RADIUS=100;X-TITLE=Conference Room:
 geo:0,0
END:VEVENT
BEGIN:VTIMEZONE
TZID:America/New_York
X-LIC-LOCATION:America/New_York
BEGIN:STANDARD
DTSTART:20251102T010000
TZOFFSETFROM:-0400
TZOFFSETTO:-0500
TZNAME:EST
END:STANDARD
END:VTIMEZONE
END:VCALENDAR